BEGIN:VCALENDAR
VERSION:2.0
PRODID:ASME
BEGIN:VEVENT
SUMMARY:WiSC Presents ASME Adapting to a COVID World
DESCRIPTION:WiSC Presents ASME Adapting to a COVID World
LOCATION:    
PRIORITY:3
DTSTART:20201006T120000
DTEND:20201006T130000
SEQUENCE: 0
END:VEVENT
END:VCALENDAR
